BEGIN:VCALENDAR
VERSION:2.0
PRODID:www.stappen-shoppen.nl
BEGIN:VEVENT
UID:stappen-shoppen.nl/entity/6731c8941619f1f8eb098651
DTSTAMP:20260425T124901Z
ORGANIZER;CN=:MAILTO:
DTSTART:20241201T110000Z
DTEND:20241201T170000Z
URL:https://m.stappen-shoppen.nl/ical/6731c8941619f1f8eb098651
SUMMARY:SUNDAY ROYALE HOLLAND CASINO
DESCRIPTION:Ontdek hoe gezellig je zondagmiddag kan zijn bij Holland Casino! Elke eerste zondag van de maand is het Sunday Royale! Laat je verwennen met heerlijk eten\, spannende spellen en geweldig entertainment.
END:VEVENT
BEGIN:VEVENT
UID:stappen-shoppen.nl/entity/6731c8941619f1f8eb098651
DTSTAMP:20260425T124901Z
ORGANIZER;CN=:MAILTO:
DTSTART:20250105T110000Z
DTEND:20250105T170000Z
URL:https://m.stappen-shoppen.nl/ical/6731c8941619f1f8eb098651
SUMMARY:SUNDAY ROYALE HOLLAND CASINO
DESCRIPTION:Ontdek hoe gezellig je zondagmiddag kan zijn bij Holland Casino! Elke eerste zondag van de maand is het Sunday Royale! Laat je verwennen met heerlijk eten\, spannende spellen en geweldig entertainment.
END:VEVENT
BEGIN:VEVENT
UID:stappen-shoppen.nl/entity/6731c8941619f1f8eb098651
DTSTAMP:20260425T124901Z
ORGANIZER;CN=:MAILTO:
DTSTART:20250202T110000Z
DTEND:20250202T170000Z
URL:https://m.stappen-shoppen.nl/ical/6731c8941619f1f8eb098651
SUMMARY:SUNDAY ROYALE HOLLAND CASINO
DESCRIPTION:Ontdek hoe gezellig je zondagmiddag kan zijn bij Holland Casino! Elke eerste zondag van de maand is het Sunday Royale! Laat je verwennen met heerlijk eten\, spannende spellen en geweldig entertainment.
END:VEVENT
BEGIN:VEVENT
UID:stappen-shoppen.nl/entity/6731c8941619f1f8eb098651
DTSTAMP:20260425T124901Z
ORGANIZER;CN=:MAILTO:
DTSTART:20250302T110000Z
DTEND:20250302T170000Z
URL:https://m.stappen-shoppen.nl/ical/6731c8941619f1f8eb098651
SUMMARY:SUNDAY ROYALE HOLLAND CASINO
DESCRIPTION:Ontdek hoe gezellig je zondagmiddag kan zijn bij Holland Casino! Elke eerste zondag van de maand is het Sunday Royale! Laat je verwennen met heerlijk eten\, spannende spellen en geweldig entertainment.
END:VEVENT
BEGIN:VEVENT
UID:stappen-shoppen.nl/entity/6731c8941619f1f8eb098651
DTSTAMP:20260425T124901Z
ORGANIZER;CN=:MAILTO:
DTSTART:20250406T100000Z
DTEND:20250406T160000Z
URL:https://m.stappen-shoppen.nl/ical/6731c8941619f1f8eb098651
SUMMARY:SUNDAY ROYALE HOLLAND CASINO
DESCRIPTION:Ontdek hoe gezellig je zondagmiddag kan zijn bij Holland Casino! Elke eerste zondag van de maand is het Sunday Royale! Laat je verwennen met heerlijk eten\, spannende spellen en geweldig entertainment.
END:VEVENT
BEGIN:VEVENT
UID:stappen-shoppen.nl/entity/6731c8941619f1f8eb098651
DTSTAMP:20260425T124901Z
ORGANIZER;CN=:MAILTO:
DTSTART:20250504T100000Z
DTEND:20250504T160000Z
URL:https://m.stappen-shoppen.nl/ical/6731c8941619f1f8eb098651
SUMMARY:SUNDAY ROYALE HOLLAND CASINO
DESCRIPTION:Ontdek hoe gezellig je zondagmiddag kan zijn bij Holland Casino! Elke eerste zondag van de maand is het Sunday Royale! Laat je verwennen met heerlijk eten\, spannende spellen en geweldig entertainment.
END:VEVENT
BEGIN:VEVENT
UID:stappen-shoppen.nl/entity/6731c8941619f1f8eb098651
DTSTAMP:20260425T124901Z
ORGANIZER;CN=:MAILTO:
DTSTART:20250601T100000Z
DTEND:20250601T160000Z
URL:https://m.stappen-shoppen.nl/ical/6731c8941619f1f8eb098651
SUMMARY:SUNDAY ROYALE HOLLAND CASINO
DESCRIPTION:Ontdek hoe gezellig je zondagmiddag kan zijn bij Holland Casino! Elke eerste zondag van de maand is het Sunday Royale! Laat je verwennen met heerlijk eten\, spannende spellen en geweldig entertainment.
END:VEVENT
BEGIN:VEVENT
UID:stappen-shoppen.nl/entity/6731c8941619f1f8eb098651
DTSTAMP:20260425T124901Z
ORGANIZER;CN=:MAILTO:
DTSTART:20250706T100000Z
DTEND:20250706T160000Z
URL:https://m.stappen-shoppen.nl/ical/6731c8941619f1f8eb098651
SUMMARY:SUNDAY ROYALE HOLLAND CASINO
DESCRIPTION:Ontdek hoe gezellig je zondagmiddag kan zijn bij Holland Casino! Elke eerste zondag van de maand is het Sunday Royale! Laat je verwennen met heerlijk eten\, spannende spellen en geweldig entertainment.
END:VEVENT
BEGIN:VEVENT
UID:stappen-shoppen.nl/entity/6731c8941619f1f8eb098651
DTSTAMP:20260425T124901Z
ORGANIZER;CN=:MAILTO:
DTSTART:20250803T100000Z
DTEND:20250803T160000Z
URL:https://m.stappen-shoppen.nl/ical/6731c8941619f1f8eb098651
SUMMARY:SUNDAY ROYALE HOLLAND CASINO
DESCRIPTION:Ontdek hoe gezellig je zondagmiddag kan zijn bij Holland Casino! Elke eerste zondag van de maand is het Sunday Royale! Laat je verwennen met heerlijk eten\, spannende spellen en geweldig entertainment.
END:VEVENT
BEGIN:VEVENT
UID:stappen-shoppen.nl/entity/6731c8941619f1f8eb098651
DTSTAMP:20260425T124901Z
ORGANIZER;CN=:MAILTO:
DTSTART:20250907T100000Z
DTEND:20250907T160000Z
URL:https://m.stappen-shoppen.nl/ical/6731c8941619f1f8eb098651
SUMMARY:SUNDAY ROYALE HOLLAND CASINO
DESCRIPTION:Ontdek hoe gezellig je zondagmiddag kan zijn bij Holland Casino! Elke eerste zondag van de maand is het Sunday Royale! Laat je verwennen met heerlijk eten\, spannende spellen en geweldig entertainment.
END:VEVENT
BEGIN:VEVENT
UID:stappen-shoppen.nl/entity/6731c8941619f1f8eb098651
DTSTAMP:20260425T124901Z
ORGANIZER;CN=:MAILTO:
DTSTART:20251005T100000Z
DTEND:20251005T160000Z
URL:https://m.stappen-shoppen.nl/ical/6731c8941619f1f8eb098651
SUMMARY:SUNDAY ROYALE HOLLAND CASINO
DESCRIPTION:Ontdek hoe gezellig je zondagmiddag kan zijn bij Holland Casino! Elke eerste zondag van de maand is het Sunday Royale! Laat je verwennen met heerlijk eten\, spannende spellen en geweldig entertainment.
END:VEVENT
BEGIN:VEVENT
UID:stappen-shoppen.nl/entity/6731c8941619f1f8eb098651
DTSTAMP:20260425T124901Z
ORGANIZER;CN=:MAILTO:
DTSTART:20251102T110000Z
DTEND:20251102T170000Z
URL:https://m.stappen-shoppen.nl/ical/6731c8941619f1f8eb098651
SUMMARY:SUNDAY ROYALE HOLLAND CASINO
DESCRIPTION:Ontdek hoe gezellig je zondagmiddag kan zijn bij Holland Casino! Elke eerste zondag van de maand is het Sunday Royale! Laat je verwennen met heerlijk eten\, spannende spellen en geweldig entertainment.
END:VEVENT
BEGIN:VEVENT
UID:stappen-shoppen.nl/entity/6731c8941619f1f8eb098651
DTSTAMP:20260425T124901Z
ORGANIZER;CN=:MAILTO:
DTSTART:20251207T110000Z
DTEND:20251207T170000Z
URL:https://m.stappen-shoppen.nl/ical/6731c8941619f1f8eb098651
SUMMARY:SUNDAY ROYALE HOLLAND CASINO
DESCRIPTION:Ontdek hoe gezellig je zondagmiddag kan zijn bij Holland Casino! Elke eerste zondag van de maand is het Sunday Royale! Laat je verwennen met heerlijk eten\, spannende spellen en geweldig entertainment.
END:VEVENT
END:VCALENDAR

