BEGIN:VCALENDAR
VERSION:2.0
PRODID:www.stappen-shoppen.nl
BEGIN:VEVENT
UID:stappen-shoppen.nl/entity/6769433eefdd67936202ca98
DTSTAMP:20260422T094455Z
ORGANIZER;CN=:MAILTO:info@mezz.nl
DTSTART:20250314T200000Z
DTEND:20250315T010000Z
URL:https://m.stappen-shoppen.nl/ical/6769433eefdd67936202ca98
SUMMARY:Clubbing in MEZZ
DESCRIPTION:Dance the night away!
END:VEVENT
END:VCALENDAR

