BEGIN:VCALENDAR
VERSION:2.0
PRODID:www.stappen-shoppen.nl
BEGIN:VEVENT
UID:stappen-shoppen.nl/entity/67cee2d974a04b2c900730d4
DTSTAMP:20260421T163351Z
ORGANIZER;CN=:MAILTO:
DTSTART:20250314T170000Z
DTEND:20250310T220000Z
URL:https://m.stappen-shoppen.nl/ical/67cee2d974a04b2c900730d4
SUMMARY:Japanese Valentine at NOVA
DESCRIPTION:NOVA viert op 14\, 15 en 16 maart Japanese Valentine.  Op deze dagen kun je culinair genieten van een 7-gangen diner voor €75\,50. Reserveren kan hier.
END:VEVENT
BEGIN:VEVENT
UID:stappen-shoppen.nl/entity/67cee2d974a04b2c900730d4
DTSTAMP:20260421T163351Z
ORGANIZER;CN=:MAILTO:
DTSTART:20250315T170000Z
DTEND:20250315T220000Z
URL:https://m.stappen-shoppen.nl/ical/67cee2d974a04b2c900730d4
SUMMARY:Japanese Valentine at NOVA
DESCRIPTION:NOVA viert op 14\, 15 en 16 maart Japanese Valentine.  Op deze dagen kun je culinair genieten van een 7-gangen diner voor €75\,50. Reserveren kan hier.
END:VEVENT
BEGIN:VEVENT
UID:stappen-shoppen.nl/entity/67cee2d974a04b2c900730d4
DTSTAMP:20260421T163351Z
ORGANIZER;CN=:MAILTO:
DTSTART:20250316T170000Z
DTEND:20250316T220000Z
URL:https://m.stappen-shoppen.nl/ical/67cee2d974a04b2c900730d4
SUMMARY:Japanese Valentine at NOVA
DESCRIPTION:NOVA viert op 14\, 15 en 16 maart Japanese Valentine.  Op deze dagen kun je culinair genieten van een 7-gangen diner voor €75\,50. Reserveren kan hier.
END:VEVENT
END:VCALENDAR

