BEGIN:VCALENDAR
VERSION:2.0
PRODID:www.stappen-shoppen.nl
BEGIN:VEVENT
UID:stappen-shoppen.nl/entity/67e12c374e10dd62bf07fda5
DTSTAMP:20260425T163045Z
ORGANIZER;CN=:MAILTO:
DTSTART:20250406T080000Z
DTEND:20250406T143000Z
URL:https://m.stappen-shoppen.nl/ical/67e12c374e10dd62bf07fda5
SUMMARY:Stoffenspektakel
DESCRIPTION:
END:VEVENT
END:VCALENDAR

