BEGIN:VCALENDAR
VERSION:2.0
PRODID:www.stappen-shoppen.nl
BEGIN:VEVENT
UID:stappen-shoppen.nl/entity/681d6402c93fc5aac4c0bf16
DTSTAMP:20260419T201126Z
ORGANIZER;CN=:MAILTO:info@denobelaer.nl 
DTSTART:20260430T181500Z
DTEND:20260430T203000Z
URL:https://m.stappen-shoppen.nl/ical/681d6402c93fc5aac4c0bf16
SUMMARY:Ons pap wil bij de revue
DESCRIPTION:Jon van Eerd brengt een krankzinnig komische revue met actuele sketches en liedjes. Met een live-orkest en pluimen en veren kan de avond niet meer stuk.…
END:VEVENT
END:VCALENDAR

