BEGIN:VCALENDAR
VERSION:2.0
PRODID:www.stappen-shoppen.nl
BEGIN:VEVENT
UID:stappen-shoppen.nl/entity/681d6402c93fc5aac4c0bf28
DTSTAMP:20260419T201126Z
ORGANIZER;CN=:MAILTO:info@denobelaer.nl 
DTSTART:20260515T181500Z
DTEND:20260515T193500Z
URL:https://m.stappen-shoppen.nl/ical/681d6402c93fc5aac4c0bf28
SUMMARY:Pa
DESCRIPTION:Deze solovoorstelling met Eric Corton vertelt het verhaal over een vader die een fascinerende tournee maakt door zijn eigen werkelijkheid. Van de makers van Ma\, Nu ik je zie en ’t Hooge Nest.AanschuiftafelKom je alleen naar deze voorstelling of heb je zin…
END:VEVENT
END:VCALENDAR

