BEGIN:VCALENDAR
VERSION:2.0
PRODID:www.stappen-shoppen.nl
BEGIN:VEVENT
UID:stappen-shoppen.nl/entity/68b25d84c93fc5aac40fc62b
DTSTAMP:20260419T201006Z
ORGANIZER;CN=:MAILTO:info@denobelaer.nl 
DTSTART:20260603T170000Z
DTEND:20260603T190000Z
URL:https://m.stappen-shoppen.nl/ical/68b25d84c93fc5aac40fc62b
SUMMARY:Ontwikkelcafé
DESCRIPTION:Het Ontwikkelcafé helpt je bij jouw zoektocht naar (nieuw) werk. In vier sessies begeleiden we je stap voor stap door het hele proces. Je kunt je per sessie inschrijven\, of meedoen met meerdere sessies.CV maken en uploaden In deze training leer je hoe je…
END:VEVENT
END:VCALENDAR

