BEGIN:VCALENDAR
VERSION:2.0
PRODID:www.stappen-shoppen.nl
BEGIN:VEVENT
UID:stappen-shoppen.nl/entity/68ca6a36e460176c300ef268
DTSTAMP:20260425T161731Z
ORGANIZER;CN=:MAILTO:
DTSTART:20251005T090000Z
DTEND:20251005T075700Z
URL:https://m.stappen-shoppen.nl/ical/68ca6a36e460176c300ef268
SUMMARY:Breda maakt zich klaar voor de Singelloop – 5 oktober kleurt de stad sportief én feestelijk
DESCRIPTION:Nog even en Breda verandert weer in één groot hardloop- én feestpodium. Op zondag 5 oktober staat de 38e editie van de AMGEN Singelloop Breda op de agenda. Wat begon als een sportieve traditie langs de singels is inmiddels uitgegroeid tot een van de grootste en meest geliefde evenementen van de stad.
END:VEVENT
END:VCALENDAR

