BEGIN:VCALENDAR
VERSION:2.0
PRODID:www.stappen-shoppen.nl
BEGIN:VEVENT
UID:stappen-shoppen.nl/entity/69085ffc2301a7927b0343bf
DTSTAMP:20260422T094312Z
ORGANIZER;CN=:MAILTO:
DTSTART:20251116T120000Z
DTEND:20251116T130000Z
URL:https://m.stappen-shoppen.nl/ical/69085ffc2301a7927b0343bf
SUMMARY:Sinterklaasintocht Bavel
DESCRIPTION:Sinterklaas en zijn Pieten komen weer naar Bavel! De intocht start om 13.00 uur en eindigt rond 14.00 uur bij De Huif\, waar we samen verder feesten. Dansschool Lotuz zorgt voor een vrolijke opwarming en natuurlijk zingen we met z’n allen voor de Sint. Kom jij ook kijken en meefeesten?
END:VEVENT
END:VCALENDAR

