BEGIN:VCALENDAR
VERSION:2.0
PRODID:www.stappen-shoppen.nl
BEGIN:VEVENT
UID:stappen-shoppen.nl/entity/691aedc2b7ab6aa1230734db
DTSTAMP:20260421T163351Z
ORGANIZER;CN=:MAILTO:
DTSTART:20251222T090000Z
DTEND:20251222T225900Z
URL:https://m.stappen-shoppen.nl/ical/691aedc2b7ab6aa1230734db
SUMMARY:het winter walhalla - maandag 22 DECEMBER  
DESCRIPTION:
END:VEVENT
END:VCALENDAR

