BEGIN:VCALENDAR
VERSION:2.0
PRODID:www.stappen-shoppen.nl
BEGIN:VEVENT
UID:stappen-shoppen.nl/entity/691af1dbfea2cc46c1029ee2
DTSTAMP:20260421T163352Z
ORGANIZER;CN=:MAILTO:
DTSTART:20251227T090000Z
DTEND:20251228T010000Z
URL:https://m.stappen-shoppen.nl/ical/691af1dbfea2cc46c1029ee2
SUMMARY:HET WINTER WALHALLA - Zaterdag 22 december 
DESCRIPTION:Tijdens Het Winter Walhalla treden er dagelijks de leukste artiesten op! ’s Avonds vind je in het Feest Walhalla en Feestcafé de Scheve Schaats één en al gezelligheid.
END:VEVENT
END:VCALENDAR

