BEGIN:VCALENDAR
VERSION:2.0
PRODID:www.stappen-shoppen.nl
BEGIN:VEVENT
UID:stappen-shoppen.nl/entity/6920464bf94fea4aad0cd059
DTSTAMP:20260419T201002Z
ORGANIZER;CN=:MAILTO:
DTSTART:20260419T173000Z
DTEND:20260419T210000Z
URL:https://m.stappen-shoppen.nl/ical/6920464bf94fea4aad0cd059
SUMMARY:Gruppo Sportivo | Stop Motion - The 50th Anniversary tour
DESCRIPTION:
END:VEVENT
END:VCALENDAR

