BEGIN:VCALENDAR
VERSION:2.0
PRODID:www.stappen-shoppen.nl
BEGIN:VEVENT
UID:stappen-shoppen.nl/entity/6926e0a54d88be8a1600383b
DTSTAMP:20260419T201132Z
ORGANIZER;CN=:MAILTO:
DTSTART:20260423T173000Z
DTEND:20260423T210000Z
URL:https://m.stappen-shoppen.nl/ical/6926e0a54d88be8a1600383b
SUMMARY:Ploegendienst in MEZZ
DESCRIPTION:
END:VEVENT
END:VCALENDAR

