BEGIN:VCALENDAR
VERSION:2.0
PRODID:www.stappen-shoppen.nl
BEGIN:VEVENT
UID:stappen-shoppen.nl/entity/6936ab35ec198c0db40f7327
DTSTAMP:20260422T162803Z
ORGANIZER;CN=:MAILTO:
DTSTART:20251214T110000Z
DTEND:20251214T160000Z
URL:https://m.stappen-shoppen.nl/ical/6936ab35ec198c0db40f7327
SUMMARY:Zinderend Zundert 2025
DESCRIPTION:Koopzondag met Kerstelfjes-speurtocht en kleurwedstrijd in Zundert
END:VEVENT
END:VCALENDAR

