BEGIN:VCALENDAR
VERSION:2.0
PRODID:www.stappen-shoppen.nl
BEGIN:VEVENT
UID:stappen-shoppen.nl/entity/6977277282c2edd0e20a1edd
DTSTAMP:20260419T225708Z
ORGANIZER;CN=:MAILTO:
DTSTART:20260704T140000Z
DTEND:20260703T210000Z
URL:https://m.stappen-shoppen.nl/ical/6977277282c2edd0e20a1edd
SUMMARY:Breda Live 2026
DESCRIPTION:Op 3 & 4 juli 2026 vieren we het beste live op z'n Brabants! Ben jij erbij?!
END:VEVENT
BEGIN:VEVENT
UID:stappen-shoppen.nl/entity/6977277282c2edd0e20a1edd
DTSTAMP:20260419T225708Z
ORGANIZER;CN=:MAILTO:
DTSTART:20260704T120000Z
DTEND:20260704T210000Z
URL:https://m.stappen-shoppen.nl/ical/6977277282c2edd0e20a1edd
SUMMARY:Breda Live 2026
DESCRIPTION:Op 3 & 4 juli 2026 vieren we het beste live op z'n Brabants! Ben jij erbij?!
END:VEVENT
END:VCALENDAR

