BEGIN:VCALENDAR
VERSION:2.0
PRODID:www.stappen-shoppen.nl
BEGIN:VEVENT
UID:stappen-shoppen.nl/entity/69775a4cf48d2ac40600fc74
DTSTAMP:20260419T224935Z
ORGANIZER;CN=:MAILTO:info@mezz.nl
DTSTART:20260502T213000Z
DTEND:20260503T020000Z
URL:https://m.stappen-shoppen.nl/ical/69775a4cf48d2ac40600fc74
SUMMARY:Juliet Fox in MEZZ
DESCRIPTION:Global techno powerhouse Juliet Fox is ready to ignite the dance floor!
END:VEVENT
END:VCALENDAR

