BEGIN:VCALENDAR
VERSION:2.0
PRODID:www.stappen-shoppen.nl
BEGIN:VEVENT
UID:stappen-shoppen.nl/entity/69aad22d754c9f63250b648e
DTSTAMP:20260419T185545Z
ORGANIZER;CN=:MAILTO:info@mezz.nl
DTSTART:20260613T180000Z
DTEND:20260613T210000Z
URL:https://m.stappen-shoppen.nl/ical/69aad22d754c9f63250b648e
SUMMARY:BSO x Young Ones Rock On
DESCRIPTION:Een avond vol live muziek\, waarin regionaal talent iconische hits in een fris nieuw jasje tovert.
END:VEVENT
END:VCALENDAR

