BEGIN:VCALENDAR
VERSION:2.0
PRODID:www.stappen-shoppen.nl
BEGIN:VEVENT
UID:stappen-shoppen.nl/entity/69aece92ec38cce7a4097abb
DTSTAMP:20260419T182858Z
ORGANIZER;CN=:MAILTO:info@stedelijkmuseumbreda.nl
DTSTART:20260425T090000Z
DTEND:20261101T160000Z
URL:https://m.stappen-shoppen.nl/ical/69aece92ec38cce7a4097abb
SUMMARY:David Bade
DESCRIPTION:Kunst maak je samen. David Bade (Curaçao\, 1970) is beeldhouwer\, schilder\, tekenaar en installatiekunstenaar. Hij staat bekend om zijn humorvolle\, scherpe en sociaal betrokken werk én om zijn vernieuwende manier van samenwerken. Hij is een pionier op dit gebied. De tentoonstelling bundelt voor het eerst een omvangrijke selectie van zijn kleurrijke sociale projecten.
END:VEVENT
END:VCALENDAR

