BEGIN:VCALENDAR
VERSION:2.0
PRODID:www.stappen-shoppen.nl
BEGIN:VEVENT
UID:stappen-shoppen.nl/entity/69e749ede838b87c56069341
DTSTAMP:20260421T211356Z
ORGANIZER;CN=:MAILTO:info@mezz.nl
DTSTART:20261003T173000Z
DTEND:20261003T210000Z
URL:https://m.stappen-shoppen.nl/ical/69e749ede838b87c56069341
SUMMARY:Grote Geelstaart in MEZZ
DESCRIPTION:Twee drumstellen\, hevige gitaren en synthesizers georkestreerd tot een alsmaar harder wordende herrie.
END:VEVENT
END:VCALENDAR

