BEGIN:VCALENDAR
VERSION:2.0
PRODID:www.stappen-shoppen.nl
BEGIN:VEVENT
UID:stappen-shoppen.nl/entity/69e87ca3bbce1870ed0bcc57
DTSTAMP:20260423T100320Z
ORGANIZER;CN=:MAILTO:marketing@vandervalkbreda.com
DTSTART:20260925T160000Z
DTEND:20260925T190000Z
URL:https://m.stappen-shoppen.nl/ical/69e87ca3bbce1870ed0bcc57
SUMMARY:Murder Mystery Dinner
DESCRIPTION:Murder Mystery Dinner bij Van der Valk Breda
END:VEVENT
END:VCALENDAR

